Workbook
Name _C1法学: #REF!
Name _C1法学: #REF!
Name _C2商学: #REF!
Name _C2商学: #REF!
Name _C3社会: #REF!
Name _C3社会: #REF!
Name _R9その: #REF!
Name _R9その: #REF!
Name A1文学: #REF!
Name A1文学: #REF!
Name A2史学: #REF!
Name A2史学: #REF!
Name A3哲学: #REF!
Name B9その: #REF!
Name D9その: #REF!
Name E1数学: #REF!
Name E2物理: #REF!
Name E3化学: #REF!
Name E4生物: #REF!
Name E5地学: #REF!
Name F9その: #REF!
Name G1機械: #REF!
Name G2電気: #REF!
Name G3土木: #REF!
Name G4応用: #REF!
Name G5応用: #REF!
Name G6原子: #REF!
Name G7鉱山: #REF!
Name G8金属: #REF!
Name H1繊維: #REF!
Name H2船舶: #REF!
Name H3航空: #REF!
Name H4経営: #REF!
Name H5工芸: #REF!
Name J9その: #REF!
Name K1農学: #REF!
Name K2農芸: #REF!
Name K3農業: #REF!
Name K4農業: #REF!
Name K5林学: #REF!
Name K6林産: #REF!
Name K7獣医: #REF!
Name K8水産: #REF!
Name L9その: #REF!
Name M2医学: #REF!
Name M4歯学: #REF!
Name M5薬学: #REF!
Name M6看護: #REF!
Name O9その: #REF!
Name P1商船: #REF!
Name Q1家政: #REF!
Name Q1家政: #REF!
Name Q2食物: #REF!
Name Q2食物: #REF!
Name Q3被服: #REF!
Name Q3被服: #REF!
Name Q4住居: #REF!
Name Q5児童: #REF!
Name S1教育: #REF!
Name S2小学: #REF!

Sheet フェーズ２算定用
B1: フェーズ２助成金の額の試算（参考情報） | J1: 2023/12
B3: 束ねた計画である場合は、本シートもしくはファイル自体をコピーし、計画に係る学部又は学科単位ごとに試算をした上で、その全ての額を合計してください（合計で25億円未満）。
B4: ※助成金の額の算定の考え方は、交付規則及び公募要領（別添１）を参照
B5: 算定に必要な数値 | E5: 上限の引上げ観点
B6: 1.入学定員の増加数 | F6: a.大学において授与実績を有しない学位分野に係る認可事項
B7: 2.収容定員の増加数 | E7: =IFERROR(IF((C11/C12)>=0.2,"○",""),"") | F7: b.計画に伴う収容定員増数と収容定員減数の合計が、総収容定員の20％以上
B8: 3.設置等に伴う他学部等の入学定員の減少数 | E8: =IFERROR(IF((C10/C12)>=0.05,"○",""),"") | F8: c.総収容定員に占める理学・工学・農学の学位を授与できる学生の割合が、学内で５％以上増加
B9: 4.設置等に伴う他学部等の収容定員の減少数 | E9: =COUNTIF(E6:E8,"○") -> 0
B10: 5.理・工・農学分野の学位を授与できる学部等の収容定員の増加数
B11: 6.収容定員増減の合計（絶対値） | C11: =C7+C9 -> 0 | E11: 上限の引下げ観点
B12: 7.大学全体の総収容定員数 | F12: d.既存の組織の定員増による計画
B13: 8.大学全体の在籍者数 | E13: =IFERROR(IF((C11/C12)<0.05,"○",""),"") | F13: e.計画に伴う収容定員増数と収容定員減数の合計が、総収容定員の５％未満
B14: 9.入学定員を減少、廃止させる組織の総収容定員数 | E14: =IFERROR(IF((C10/C12)<=0,"○",""),"") | F14: f.総収容定員に占める理学・工学・農学の学位を授与できる学生の割合が、学内で増加しない
B15: 10.入学定員を減少、廃止させる組織の在籍者数 | E15: =COUNTIF(E12:E14,"○") -> 0
B16: 11.フェーズ２の助成対象経費の合計（単位：千円）
B17: 12.フェーズ２の助成金申請額の合計（単位：千円）
F18: =IFERROR(C15/C14,"") | G18: ←定員減を行う機関の総収容定員充足率
B19: ①事業費上限額基準目安 | C19: =IF(C6<200,C6*0.15*100000,3000000) -> 0 | E19: ※定員減を行う機関の総収容定員充足率が90％を下回る場合
B20: ②事業費上限額基準（先発組） | C20: =ROUNDDOWN(IF(C19+(C19/6)*(E9-E15)>【削除しないでください】!$B$1,【削除しないでください】!$B$1,(C19+(C19/6)*(E9-E15))),0) -> 0 | E20: ⅰ.定員減を行う機関の標準修業年限
B21: ②事業費上限額基準（後発組） | C21: =ROUNDDOWN(IF(C19+(C19/6)*(E9-E15)>【削除しないでください】!$B$2,【削除しないでください】!$B$2,(C19+(C19/6)*(E9-E15))),0) -> 0 | E21: ⅱ.収容定員の減少数のうち、加味しない人数 | I21: =IF(F18<0.9,IF(ROUNDUP(C14-C15/0.9,0)<C9,ROUNDUP(C14-C15/0.9,0),C9),"")
B22: ○事業費上限額基準（②）の範囲内で特定された事業費（先発組） | C22: =MIN(C16,C20) -> 0 | E22: ⅲ.助成率算定に用いる入学定員の減少数 | I22: =IFERROR(IF(((C9-I21)/I20)>0,((C9-I21)/I20),0),"")
B23: ○事業費上限額基準（②）の範囲内で特定された事業費（後発組） | C23: =MIN(C16,C21) -> 0
B24: ③助成率（先発組） | C24: =IFERROR(IF((1/4*C8/C6+1/2)<=3/4,(1/4*C8/C6+1/2),3/4),"") | E24: ③'助成率（先発組） | I24: =IFERROR(IF((1/4*I22/C6+1/2)<=3/4,(1/4*I22/C6+1/2),3/4),"")
B25: ③助成率（後発組） | C25: =IFERROR(IF((1/3*C8/C6+1/3)<=2/3,(1/3*C8/C6+1/3),2/3),"") | E25: ③'助成率（後発組） | I25: =IFERROR(IF((1/3*I22/C6+1/3)<=2/3,(1/3*I22/C6+1/3),2/3),"")
B26: ○フェーズ２の助成金の額（先発組） | C26: =IFERROR(ROUNDDOWN(MIN(C17,(C22*C24)),0),"") | E26: ○フェーズ２の助成金の額（先発組） | I26: =IFERROR(ROUNDDOWN(MIN(C17,(C22*I24)),0),"")
B27: ○フェーズ２の助成金の額（後発組） | C27: =IFERROR(ROUNDDOWN(MIN(C17,(C23*C25)),0),"") | E27: ○フェーズ２の助成金の額（後発組） | I27: =IFERROR(ROUNDDOWN(MIN(C17,(C23*I25)),0),"")
B30: （参考）上限の引上げ・引下げ観点の該当数が０の場合の助成金の額 | E30: ※定員減を行う機関の総収容定員充足率が90％を下回る場合
B31: （先発組） | C31: =IFERROR(ROUNDDOWN(MIN(C17,(MIN(C16,(ROUNDDOWN(IF(C19>【削除しないでください】!$B$1,【削除しないでください】!$B$1,C19),0))))*C24),0),"") | H31: （先発組） | I31: =IFERROR(ROUNDDOWN(MIN(C17,(MIN(C16,(ROUNDDOWN(IF(C19>【削除しないでください】!$B$1,【削除しないでください】!$B$1,C19),0))))*I24),0),"")
B32: （後発組） | C32: =IFERROR(ROUNDDOWN(MIN(C17,(MIN(C16,(ROUNDDOWN(IF(C19>【削除しないでください】!$B$2,【削除しないでください】!$B$2,C19),0))))*C25),0),"") | H32: （後発組） | I32: =IFERROR(ROUNDDOWN(MIN(C17,(MIN(C16,(ROUNDDOWN(IF(C19>【削除しないでください】!$B$2,【削除しないでください】!$B$2,C19),0))))*I25),0),"")

Sheet 【削除しないでください】
A1: 先発組 | B1: 3333333
A2: 後発組 | B2: 3749999
